{"text_format":"1","workbook":"xlsx","n_sheets":5,"sheets":["Übersicht","Kasse_1","Kasse_2","Kasse_3","Charts"],"not_rendered":{"charts":6,"images":0,"macros":1,"external_links":0,"defined_names":5,"comments":4,"pivot_tables":0},"unopened":[],"bounds":{"document_bytes":16777216,"sheet_cells":100000,"rows_first":2000,"rows_last":500,"rows_between":2000,"halvings":0,"cell_chars":16384,"cell_head_chars":4096},"cells_cut":0,"cells_raw":0,"read":"whole","date_system":"1900"}

{"sheet":"Übersicht","index":0,"n_rows":47,"n_cols":11,"rows_kept":47,"cut":false,"hidden":false,"merged":[[31,1,47,1],[21,9,21,10],[20,9,20,10],[19,9,19,10],[18,9,18,10],[18,4,18,8],[19,4,19,8],[20,4,20,8],[43,3,43,5],[42,6,42,10],[25,4,25,8],[25,9,25,10],[26,4,26,8],[27,4,27,8],[28,4,28,8],[41,3,41,5],[26,9,26,10],[10,9,10,10],[10,4,10,7],[11,4,11,7],[12,4,12,7],[11,9,11,10],[12,9,12,10],[37,2,37,3],[38,2,38,3],[37,9,37,10],[29,9,29,10],[30,9,30,10],[31,9,31,10],[32,9,32,10],[34,3,34,4],[36,4,36,8],[36,9,36,10],[37,4,37,8],[38,9,38,10],[38,4,38,8],[39,4,39,8],[34,5,34,6],[39,9,39,10],[13,9,13,10],[17,4,17,8],[17,9,17,10],[23,3,23,4],[36,2,36,3],[30,4,30,8],[31,4,31,8],[32,4,32,8],[29,4,29,8],[22,3,22,8],[21,4,21,8],[27,9,27,10],[28,9,28,10],[2,3,4,9],[6,10,6,11],[6,3,6,5],[16,9,16,10],[16,4,16,8],[14,3,14,4],[8,3,8,4]]}
[]
[]
[]
[]
[]
[null,null,null,{"$f":"IF(H7=\"\",\"Bitte das Jahr angeben\",IF(K7=\"\",\"Bitte Datum angeben\",\"\"))","v":"Bitte das Jahr angeben"}]
[null,null,null,"Kassenbericht  ",null,null,null,null,null,"Datum:"]
[]
[null,null,null,"Übertrag:"]
[]
[null,null,null,null,{"$f":"IF(Kasse_1!I11=\"\",\"\",Kasse_1!I11)","v":""},null,null,null,{"$f":"IF(Kasse_1!F11=\"\",\"\",Kasse_1!F11)","v":""},{"$f":"IF(Kasse_1!M11=\"\",\"\",Kasse_1!M11)","v":""},{"$f":"IF(Kasse_1!H11=\"\",\"\",Kasse_1!H11)","v":""}]
[null,null,null,null,{"$f":"IF(Kasse_2!I11=\"\",\"\",Kasse_2!I11)","v":""},null,null,null,{"$f":"IF(Kasse_2!F11=\"\",\"\",Kasse_2!F11)","v":""},{"$f":"IF(Kasse_2!M11=\"\",\"\",Kasse_2!M11)","v":""}]
[null,null,null,null,{"$f":"IF(Kasse_3!I11=\"\",\"\",Kasse_3!I11)","v":""},null,null,null,{"$f":"IF(Kasse_3!F11=\"\",\"\",Kasse_3!F11)","v":""},{"$f":"IF(Kasse_3!M11=\"\",\"\",Kasse_3!M11)","v":""}]
[null,null,null,null,null,null,null,null,{"$f":"IF(J14=\"\",\"\",\"Gesamt:\")","v":""},{"$f":"IF(J12=\"\",\"\",SUM(J11:J13))","v":""}]
[null,null,null,"Einnahmen:"]
[]
[]
[]
[]
[]
[]
[]
[]
[null,null,null,"Ausgaben:"]
[]
[]
[]
[]
[]
[]
[]
[null,"Copyright by Heinr.-Bernh. Münzebrock"]
[]
[]
[null,null,null,"Endstand:",null,{"$f":"IF(K7=\"\",\"\",K7)","v":""}]
[]
[null,null,null,null,{"$f":"IF(E11=\"\",\"\",E11)","v":""},null,null,null,null,{"$f":"IF(Kasse_1!M53=0,\"\",Kasse_1!M53)","v":""}]
[null,null,{"$f":"IF(E34=\"\",\"\",\"Kontostand:\")","v":""},null,{"$f":"IF(E12=\"\",\"\",E12)","v":""},null,null,null,null,{"$f":"IF(Kasse_2!M53=0,\"\",Kasse_2!M53)","v":""}]
[null,null,{"$f":"IF(E35=\"\",\"\",\"Kontostand:\")","v":""},null,"",null,null,null,null,{"$f":"IF(Kasse_3!M53=0,\"\",Kasse_3!M53)","v":""}]
[null,null,null,null,{"$f":"IF(J40=\"\",\"\",\"Gesamt:\")","v":""},null,null,null,null,{"$f":"IF(J38=\"\",\"\",SUM(J37:J39))","v":""}]
[]
[null,null,null,"für die Richtigkeit:"]
[]
[null,null,null,"Kassenprüfung:"]
[null,null,null,"am:",null,null,null,null,"1. Prüfer"]
[]
[null,null,null,null,null,null,null,null,"2. Prüfer"]

{"sheet":"Kasse_1","index":1,"n_rows":53,"n_cols":13,"rows_kept":53,"cut":false,"hidden":false,"merged":[[36,1,52,1],[2,2,5,9],[9,5,9,6],[50,3,50,9],[51,3,51,9],[7,2,7,5],[36,3,36,9],[37,3,37,9],[38,3,38,9],[39,3,39,9],[40,3,40,9],[41,3,41,9],[30,3,30,9],[31,3,31,9],[32,3,32,9],[33,3,33,9],[52,5,52,6],[52,8,52,10],[52,2,52,3],[42,3,42,9],[43,3,43,9],[44,3,44,9],[45,3,45,9],[46,3,46,9],[47,3,47,9],[48,3,48,9],[49,3,49,9],[22,3,22,9],[35,3,35,9],[24,3,24,9],[25,3,25,9],[26,3,26,9],[27,3,27,9],[28,3,28,9],[29,3,29,9],[34,3,34,9],[7,11,7,12],[7,6,7,8],[10,5,10,6],[10,8,10,10],[23,3,23,9],[9,8,9,10],[12,3,12,9],[13,3,13,9],[14,3,14,9],[15,3,15,9],[16,3,16,9],[17,3,17,9],[18,3,18,9],[19,3,19,9],[20,3,20,9],[21,3,21,9]]}
[]
[]
[null,null,{"$f":"IF(Übersicht!D3=\"\",\"\",Übersicht!D3)","v":""}]
[]
[21]
[]
[]
[null,null,"Kassenbericht  ",null,null,null,"2020 / 2021",null,null,null,"Datum:",{"$f":"IF(Übersicht!K7=\"\",\"\",Übersicht!K7)","v":""}]
[]
[null,null,null,"Jahr",null,"Datum",null,null,"Bezeichnung",null,null,null,"Betrag"]
[null,null,"Übertrag:"]
[]
[null,null,"Datum","Bezeichnung",null,null,null,null,null,null,"Einnahme",null,"Ausgabe"]
[]
[]
[]
[]
[]
[]
[]
[]
[]
[]
[]
[]
[]
[]
[]
[]
[]
[]
[]
[]
[]
[]
[]
[null,"Copyright by Heinr.-Bernh. Münzebrock"]
[]
[]
[]
[]
[]
[]
[]
[]
[]
[]
[]
[]
[]
[]
[null,null,null,"Gesamt:",null,null,null,null,null,null,{"$f":"SUM(K14:K51)","v":0},null,{"$f":"SUM(M14:M51)","v":0}]
[null,null,"Datum:",null,null,{"$f":"L8","v":""},null,null,"Kontostand:",null,null,null,{"$f":"M11+K52-M52","v":0}]

{"sheet":"Kasse_2","index":2,"n_rows":53,"n_cols":13,"rows_kept":53,"cut":false,"hidden":false,"merged":[[36,1,52,1],[47,3,47,9],[38,3,38,9],[46,3,46,9],[50,3,50,9],[51,3,51,9],[52,2,52,3],[52,5,52,6],[52,8,52,10],[45,3,45,9],[39,3,39,9],[40,3,40,9],[41,3,41,9],[42,3,42,9],[43,3,43,9],[44,3,44,9],[32,3,32,9],[34,3,34,9],[35,3,35,9],[36,3,36,9],[37,3,37,9],[7,11,7,12],[9,5,9,6],[9,8,9,10],[21,3,21,9],[10,5,10,6],[10,8,10,10],[12,3,12,9],[13,3,13,9],[14,3,14,9],[15,3,15,9],[16,3,16,9],[17,3,17,9],[18,3,18,9],[19,3,19,9],[20,3,20,9],[48,3,48,9],[49,3,49,9],[2,2,5,9],[7,2,7,5],[7,6,7,8],[33,3,33,9],[22,3,22,9],[23,3,23,9],[24,3,24,9],[25,3,25,9],[26,3,26,9],[27,3,27,9],[28,3,28,9],[29,3,29,9],[30,3,30,9],[31,3,31,9]]}
[]
[]
[null,null,{"$f":"IF(Übersicht!D3=\"\",\"\",Übersicht!D3)","v":""}]
[]
[]
[14]
[]
[null,null,"Kassenbericht  ",null,null,null,"2021 / 2022",null,null,null,"Datum:",{"$f":"IF(Übersicht!K7=\"\",\"\",Übersicht!K7)","v":""}]
[]
[null,null,null,"Jahr",null,"Datum",null,null,"Bezeichnung",null,null,null,"Betrag"]
[null,null,"Übertrag:"]
[]
[null,null,"Datum","Bezeichnung",null,null,null,null,null,null,"Einnahme",null,"Ausgabe"]
[]
[]
[]
[]
[]
[]
[]
[]
[]
[]
[]
[]
[]
[]
[]
[]
[]
[]
[]
[]
[]
[]
[]
[null,"Copyright by Heinr.-Bernh. Münzebrock"]
[]
[]
[]
[]
[]
[]
[]
[]
[]
[]
[]
[]
[]
[]
[null,null,null,"Gesamt:",null,null,null,null,null,null,{"$f":"SUM(K14:K51)","v":0},null,{"$f":"SUM(M14:M51)","v":0}]
[null,null,"Datum:",null,null,{"$f":"L8","v":""},null,null,"Kontostand:",null,null,null,{"$f":"M11+K52-M52","v":0}]

{"sheet":"Kasse_3","index":3,"n_rows":53,"n_cols":13,"rows_kept":53,"cut":false,"hidden":false,"merged":[[32,3,32,9],[46,3,46,9],[50,3,50,9],[51,3,51,9],[52,2,52,3],[52,5,52,6],[52,8,52,10],[45,3,45,9],[34,3,34,9],[35,3,35,9],[36,3,36,9],[37,3,37,9],[38,3,38,9],[39,3,39,9],[40,3,40,9],[41,3,41,9],[27,3,27,9],[28,3,28,9],[29,3,29,9],[30,3,30,9],[31,3,31,9],[7,11,7,12],[9,5,9,6],[9,8,9,10],[21,3,21,9],[10,5,10,6],[10,8,10,10],[12,3,12,9],[13,3,13,9],[14,3,14,9],[15,3,15,9],[16,3,16,9],[17,3,17,9],[18,3,18,9],[19,3,19,9],[20,3,20,9],[36,1,52,1],[47,3,47,9],[48,3,48,9],[49,3,49,9],[2,2,5,9],[7,2,7,5],[7,6,7,8],[42,3,42,9],[43,3,43,9],[44,3,44,9],[33,3,33,9],[22,3,22,9],[23,3,23,9],[24,3,24,9],[25,3,25,9],[26,3,26,9]]}
[]
[]
[null,null,{"$f":"IF(Übersicht!D3=\"\",\"\",Übersicht!D3)","v":""}]
[]
[]
[]
[19]
[null,null,"Kassenbericht  ",null,null,null,null,null,null,null,"Datum:",{"$f":"IF(Übersicht!K7=\"\",\"\",Übersicht!K7)","v":""}]
[]
[null,null,null,"Jahr",null,"Datum",null,null,"Bezeichnung",null,null,null,"Betrag"]
[null,null,"Übertrag:"]
[]
[null,null,"Datum","Bezeichnung",null,null,null,null,null,null,"Einnahme",null,"Ausgabe"]
[]
[]
[]
[]
[]
[]
[]
[]
[]
[]
[]
[]
[]
[]
[]
[]
[]
[]
[]
[]
[]
[]
[]
[null,"Copyright by Heinr.-Bernh. Münzebrock"]
[]
[]
[]
[]
[]
[]
[]
[]
[]
[]
[]
[]
[]
[]
[null,null,null,"Gesamt:",null,null,null,null,null,null,{"$f":"SUM(K14:K51)","v":0},null,{"$f":"SUM(M14:M51)","v":0}]
[null,null,"Datum:",null,null,{"$f":"L8","v":""},null,null,"Kontostand:",null,null,null,{"$f":"M11+K52-M52","v":0}]

{"sheet":"Charts","index":4,"n_rows":55,"n_cols":33,"rows_kept":55,"cut":false,"hidden":false,"merged":[[1,2,1,14],[54,1,70,1],[16,1,32,1]]}
[]
[null,null,{"$f":"CONCATENATE(Übersicht!D7,Übersicht!H7,\"    \",Übersicht!J7,Übersicht!K7)","v":"Kassenbericht      Datum:"}]
[]
[]
[]
[]
[]
[]
[null,null,null,null,null,null,null,null,null,null,null,null,null,null,null,null,null,null,null,null,{"$f":"IF(Kasse_1!I11=\"\",\"\",CONCATENATE(\"Kontoentwicklung \",Kasse_1!I11))","v":""},null,null,{"$f":"IF(Kasse_2!I11=\"\",\"\",CONCATENATE(\"Kontoentwicklung \",Kasse_2!I11))","v":""},null,null,{"$f":"IF(Kasse_3!I11=\"\",\"\",CONCATENATE(\"Kontoentwicklung \",Kasse_3!I11))","v":""}]
[null,null,null,null,null,null,null,null,null,null,null,null,null,null,null,null,null,null,null,{"$f":"IF(Kasse_1!F11=\"\",\"\",Kasse_1!F11)","v":""},{"$f":"IF(Kasse_1!M11=\"\",\"\",Kasse_1!M11)","v":""},null,{"$f":"IF(Kasse_2!F11=\"\",\"\",Kasse_2!F11)","v":""},{"$f":"IF(Kasse_2!M11=\"\",\"\",Kasse_2!M11)","v":""},null,{"$f":"IF(Kasse_3!F11=\"\",\"\",Kasse_3!F11)","v":""},{"$f":"IF(Kasse_3!M11=\"\",\"\",Kasse_3!M11)","v":""},null,null,"Einnahmen",null,null,"Ausgaben"]
[null,null,null,null,null,null,null,null,null,null,null,null,null,null,null,null,null,null,null,{"$f":"IF(Kasse_1!C14=\"\",\"\",Kasse_1!C14)","v":""},{"$f":"IF(T11=\"\",\"\",IF(U10=0,\"\",U10+Kasse_1!K14-Kasse_1!M14))","v":""},null,{"$f":"IF(Kasse_2!C14=\"\",\"\",Kasse_2!C14)","v":""},{"$f":"IF(W11=\"\",\"\",IF(X10=0,\"\",X10+Kasse_2!K14-Kasse_2!M14))","v":""},null,{"$f":"IF(Kasse_3!C14=\"\",\"\",Kasse_3!C14)","v":""},{"$f":"IF(Z11=\"\",\"\",IF(AA10=0,\"\",AA10+Kasse_3!K14-Kasse_3!M14))","v":""},null,{"$f":"IF(Übersicht!E17=\"\",\"\",Übersicht!E17)","v":""},{"$f":"IF(Übersicht!J17=\"\",\"\",Übersicht!J17)","v":""},null,{"$f":"IF(Übersicht!E26=\"\",\"\",Übersicht!E26)","v":""},{"$f":"IF(Übersicht!J26=\"\",\"\",Übersicht!J26)","v":""}]
[null,null,null,null,null,null,null,null,null,null,null,null,null,null,null,null,null,null,null,{"$f":"IF(Kasse_1!C15=\"\",\"\",Kasse_1!C15)","v":""},{"$f":"IF(T12=\"\",\"\",IF(U11=0,\"\",U11+Kasse_1!K15-Kasse_1!M15))","v":""},null,{"$f":"IF(Kasse_2!C15=\"\",\"\",Kasse_2!C15)","v":""},{"$f":"IF(W12=\"\",\"\",IF(X11=0,\"\",X11+Kasse_2!K15-Kasse_2!M15))","v":""},null,{"$f":"IF(Kasse_3!C15=\"\",\"\",Kasse_3!C15)","v":""},{"$f":"IF(Z12=\"\",\"\",IF(AA11=0,\"\",AA11+Kasse_3!K15-Kasse_3!M15))","v":""},null,{"$f":"IF(Übersicht!E18=\"\",\"\",Übersicht!E18)","v":""},{"$f":"IF(Übersicht!J18=\"\",\"\",Übersicht!J18)","v":""},null,{"$f":"IF(Übersicht!E27=\"\",\"\",Übersicht!E27)","v":""},{"$f":"IF(Übersicht!J27=\"\",\"\",Übersicht!J27)","v":""}]
[null,null,null,null,null,null,null,null,null,null,null,null,null,null,null,null,null,null,null,{"$f":"IF(Kasse_1!C16=\"\",\"\",Kasse_1!C16)","v":""},{"$f":"IF(T13=\"\",\"\",IF(U12=0,\"\",U12+Kasse_1!K16-Kasse_1!M16))","v":""},null,{"$f":"IF(Kasse_2!C16=\"\",\"\",Kasse_2!C16)","v":""},{"$f":"IF(W13=\"\",\"\",IF(X12=0,\"\",X12+Kasse_2!K16-Kasse_2!M16))","v":""},null,{"$f":"IF(Kasse_3!C16=\"\",\"\",Kasse_3!C16)","v":""},{"$f":"IF(Z13=\"\",\"\",IF(AA12=0,\"\",AA12+Kasse_3!K16-Kasse_3!M16))","v":""},null,{"$f":"IF(Übersicht!E19=\"\",\"\",Übersicht!E19)","v":""},{"$f":"IF(Übersicht!J19=\"\",\"\",Übersicht!J19)","v":""},null,{"$f":"IF(Übersicht!E28=\"\",\"\",Übersicht!E28)","v":""},{"$f":"IF(Übersicht!J28=\"\",\"\",Übersicht!J28)","v":""}]
[null,null,null,null,null,null,null,null,null,null,null,null,null,null,null,null,null,null,null,{"$f":"IF(Kasse_1!C17=\"\",\"\",Kasse_1!C17)","v":""},{"$f":"IF(T14=\"\",\"\",IF(U13=0,\"\",U13+Kasse_1!K17-Kasse_1!M17))","v":""},null,{"$f":"IF(Kasse_2!C17=\"\",\"\",Kasse_2!C17)","v":""},{"$f":"IF(W14=\"\",\"\",IF(X13=0,\"\",X13+Kasse_2!K17-Kasse_2!M17))","v":""},null,{"$f":"IF(Kasse_3!C17=\"\",\"\",Kasse_3!C17)","v":""},{"$f":"IF(Z14=\"\",\"\",IF(AA13=0,\"\",AA13+Kasse_3!K17-Kasse_3!M17))","v":""},null,{"$f":"IF(Übersicht!E20=\"\",\"\",Übersicht!E20)","v":""},{"$f":"IF(Übersicht!J20=\"\",\"\",Übersicht!J20)","v":""},null,{"$f":"IF(Übersicht!E29=\"\",\"\",Übersicht!E29)","v":""},{"$f":"IF(Übersicht!J29=\"\",\"\",Übersicht!J29)","v":""}]
[null,null,null,null,null,null,null,null,null,null,null,null,null,null,null,null,null,null,null,{"$f":"IF(Kasse_1!C18=\"\",\"\",Kasse_1!C18)","v":""},{"$f":"IF(T15=\"\",\"\",IF(U14=0,\"\",U14+Kasse_1!K18-Kasse_1!M18))","v":""},null,{"$f":"IF(Kasse_2!C18=\"\",\"\",Kasse_2!C18)","v":""},{"$f":"IF(W15=\"\",\"\",IF(X14=0,\"\",X14+Kasse_2!K18-Kasse_2!M18))","v":""},null,{"$f":"IF(Kasse_3!C18=\"\",\"\",Kasse_3!C18)","v":""},{"$f":"IF(Z15=\"\",\"\",IF(AA14=0,\"\",AA14+Kasse_3!K18-Kasse_3!M18))","v":""},null,{"$f":"IF(Übersicht!E21=\"\",\"\",Übersicht!E21)","v":""},{"$f":"IF(Übersicht!J21=\"\",\"\",Übersicht!J21)","v":""},null,{"$f":"IF(Übersicht!E30=\"\",\"\",Übersicht!E30)","v":""},{"$f":"IF(Übersicht!J30=\"\",\"\",Übersicht!J30)","v":""}]
[null,null,null,null,null,null,null,null,null,null,null,null,null,null,null,null,null,null,null,{"$f":"IF(Kasse_1!C19=\"\",\"\",Kasse_1!C19)","v":""},{"$f":"IF(T16=\"\",\"\",IF(U15=0,\"\",U15+Kasse_1!K19-Kasse_1!M19))","v":""},null,{"$f":"IF(Kasse_2!C19=\"\",\"\",Kasse_2!C19)","v":""},{"$f":"IF(W16=\"\",\"\",IF(X15=0,\"\",X15+Kasse_2!K19-Kasse_2!M19))","v":""},null,{"$f":"IF(Kasse_3!C19=\"\",\"\",Kasse_3!C19)","v":""},{"$f":"IF(Z16=\"\",\"\",IF(AA15=0,\"\",AA15+Kasse_3!K19-Kasse_3!M19))","v":""},null,{"$f":"IF(Übersicht!E22=\"\",\"\",Übersicht!E22)","v":""},{"$f":"IF(Übersicht!J22=\"\",\"\",Übersicht!J22)","v":""},null,{"$f":"IF(Übersicht!E31=\"\",\"\",Übersicht!E31)","v":""},{"$f":"IF(Übersicht!J31=\"\",\"\",Übersicht!J31)","v":""}]
[null,"Copyright by Heinr.-Bernh. Münzebrock",null,null,null,null,null,null,null,null,null,null,null,null,null,null,null,null,null,{"$f":"IF(Kasse_1!C20=\"\",\"\",Kasse_1!C20)","v":""},{"$f":"IF(T17=\"\",\"\",IF(U16=0,\"\",U16+Kasse_1!K20-Kasse_1!M20))","v":""},null,{"$f":"IF(Kasse_2!C20=\"\",\"\",Kasse_2!C20)","v":""},{"$f":"IF(W17=\"\",\"\",IF(X16=0,\"\",X16+Kasse_2!K20-Kasse_2!M20))","v":""},null,{"$f":"IF(Kasse_3!C20=\"\",\"\",Kasse_3!C20)","v":""},{"$f":"IF(Z17=\"\",\"\",IF(AA16=0,\"\",AA16+Kasse_3!K20-Kasse_3!M20))","v":""},null,null,null,null,{"$f":"IF(Übersicht!E32=\"\",\"\",Übersicht!E32)","v":""},{"$f":"IF(Übersicht!J32=\"\",\"\",Übersicht!J32)","v":""}]
[null,null,null,null,null,null,null,null,null,null,null,null,null,null,null,null,null,null,null,{"$f":"IF(Kasse_1!C21=\"\",\"\",Kasse_1!C21)","v":""},{"$f":"IF(T18=\"\",\"\",IF(U17=0,\"\",U17+Kasse_1!K21-Kasse_1!M21))","v":""},null,{"$f":"IF(Kasse_2!C21=\"\",\"\",Kasse_2!C21)","v":""},{"$f":"IF(W18=\"\",\"\",IF(X17=0,\"\",X17+Kasse_2!K21-Kasse_2!M21))","v":""},null,{"$f":"IF(Kasse_3!C21=\"\",\"\",Kasse_3!C21)","v":""},{"$f":"IF(Z18=\"\",\"\",IF(AA17=0,\"\",AA17+Kasse_3!K21-Kasse_3!M21))","v":""},null,null,null,null,{"$f":"IF(Übersicht!E33=\"\",\"\",Übersicht!E33)","v":""},{"$f":"IF(Übersicht!J33=\"\",\"\",Übersicht!J33)","v":""}]
[null,null,null,null,null,null,null,null,null,null,null,null,null,null,null,null,null,null,null,{"$f":"IF(Kasse_1!C22=\"\",\"\",Kasse_1!C22)","v":""},{"$f":"IF(T19=\"\",\"\",IF(U18=0,\"\",U18+Kasse_1!K22-Kasse_1!M22))","v":""},null,{"$f":"IF(Kasse_2!C22=\"\",\"\",Kasse_2!C22)","v":""},{"$f":"IF(W19=\"\",\"\",IF(X18=0,\"\",X18+Kasse_2!K22-Kasse_2!M22))","v":""},null,{"$f":"IF(Kasse_3!C22=\"\",\"\",Kasse_3!C22)","v":""},{"$f":"IF(Z19=\"\",\"\",IF(AA18=0,\"\",AA18+Kasse_3!K22-Kasse_3!M22))","v":""}]
[null,null,null,null,null,null,null,null,null,null,null,null,null,null,null,null,null,null,null,{"$f":"IF(Kasse_1!C23=\"\",\"\",Kasse_1!C23)","v":""},{"$f":"IF(T20=\"\",\"\",IF(U19=0,\"\",U19+Kasse_1!K23-Kasse_1!M23))","v":""},null,{"$f":"IF(Kasse_2!C23=\"\",\"\",Kasse_2!C23)","v":""},{"$f":"IF(W20=\"\",\"\",IF(X19=0,\"\",X19+Kasse_2!K23-Kasse_2!M23))","v":""},null,{"$f":"IF(Kasse_3!C23=\"\",\"\",Kasse_3!C23)","v":""},{"$f":"IF(Z20=\"\",\"\",IF(AA19=0,\"\",AA19+Kasse_3!K23-Kasse_3!M23))","v":""}]
[null,null,null,null,null,null,null,null,null,null,null,null,null,null,null,null,null,null,null,{"$f":"IF(Kasse_1!C24=\"\",\"\",Kasse_1!C24)","v":""},{"$f":"IF(T21=\"\",\"\",IF(U20=0,\"\",U20+Kasse_1!K24-Kasse_1!M24))","v":""},null,{"$f":"IF(Kasse_2!C24=\"\",\"\",Kasse_2!C24)","v":""},{"$f":"IF(W21=\"\",\"\",IF(X20=0,\"\",X20+Kasse_2!K24-Kasse_2!M24))","v":""},null,{"$f":"IF(Kasse_3!C24=\"\",\"\",Kasse_3!C24)","v":""},{"$f":"IF(Z21=\"\",\"\",IF(AA20=0,\"\",AA20+Kasse_3!K24-Kasse_3!M24))","v":""}]
[null,null,null,null,null,null,null,null,null,null,null,null,null,null,null,null,null,null,null,{"$f":"IF(Kasse_1!C25=\"\",\"\",Kasse_1!C25)","v":""},{"$f":"IF(T22=\"\",\"\",IF(U21=0,\"\",U21+Kasse_1!K25-Kasse_1!M25))","v":""},null,{"$f":"IF(Kasse_2!C25=\"\",\"\",Kasse_2!C25)","v":""},{"$f":"IF(W22=\"\",\"\",IF(X21=0,\"\",X21+Kasse_2!K25-Kasse_2!M25))","v":""},null,{"$f":"IF(Kasse_3!C25=\"\",\"\",Kasse_3!C25)","v":""},{"$f":"IF(Z22=\"\",\"\",IF(AA21=0,\"\",AA21+Kasse_3!K25-Kasse_3!M25))","v":""}]
[null,null,null,null,null,null,null,null,null,null,null,null,null,null,null,null,null,null,null,{"$f":"IF(Kasse_1!C26=\"\",\"\",Kasse_1!C26)","v":""},{"$f":"IF(T23=\"\",\"\",IF(U22=0,\"\",U22+Kasse_1!K26-Kasse_1!M26))","v":""},null,{"$f":"IF(Kasse_2!C26=\"\",\"\",Kasse_2!C26)","v":""},{"$f":"IF(W23=\"\",\"\",IF(X22=0,\"\",X22+Kasse_2!K26-Kasse_2!M26))","v":""},null,{"$f":"IF(Kasse_3!C26=\"\",\"\",Kasse_3!C26)","v":""},{"$f":"IF(Z23=\"\",\"\",IF(AA22=0,\"\",AA22+Kasse_3!K26-Kasse_3!M26))","v":""}]
[null,null,null,null,null,null,null,null,null,null,null,null,null,null,null,null,null,null,null,{"$f":"IF(Kasse_1!C27=\"\",\"\",Kasse_1!C27)","v":""},{"$f":"IF(T24=\"\",\"\",IF(U23=0,\"\",U23+Kasse_1!K27-Kasse_1!M27))","v":""},null,{"$f":"IF(Kasse_2!C27=\"\",\"\",Kasse_2!C27)","v":""},{"$f":"IF(W24=\"\",\"\",IF(X23=0,\"\",X23+Kasse_2!K27-Kasse_2!M27))","v":""},null,{"$f":"IF(Kasse_3!C27=\"\",\"\",Kasse_3!C27)","v":""},{"$f":"IF(Z24=\"\",\"\",IF(AA23=0,\"\",AA23+Kasse_3!K27-Kasse_3!M27))","v":""}]
[null,null,null,null,null,null,null,null,null,null,null,null,null,null,null,null,null,null,null,{"$f":"IF(Kasse_1!C28=\"\",\"\",Kasse_1!C28)","v":""},{"$f":"IF(T25=\"\",\"\",IF(U24=0,\"\",U24+Kasse_1!K28-Kasse_1!M28))","v":""},null,{"$f":"IF(Kasse_2!C28=\"\",\"\",Kasse_2!C28)","v":""},{"$f":"IF(W25=\"\",\"\",IF(X24=0,\"\",X24+Kasse_2!K28-Kasse_2!M28))","v":""},null,{"$f":"IF(Kasse_3!C28=\"\",\"\",Kasse_3!C28)","v":""},{"$f":"IF(Z25=\"\",\"\",IF(AA24=0,\"\",AA24+Kasse_3!K28-Kasse_3!M28))","v":""}]
[null,null,null,null,null,null,null,null,null,null,null,null,null,null,null,null,null,null,null,{"$f":"IF(Kasse_1!C29=\"\",\"\",Kasse_1!C29)","v":""},{"$f":"IF(T26=\"\",\"\",IF(U25=0,\"\",U25+Kasse_1!K29-Kasse_1!M29))","v":""},null,{"$f":"IF(Kasse_2!C29=\"\",\"\",Kasse_2!C29)","v":""},{"$f":"IF(W26=\"\",\"\",IF(X25=0,\"\",X25+Kasse_2!K29-Kasse_2!M29))","v":""},null,{"$f":"IF(Kasse_3!C29=\"\",\"\",Kasse_3!C29)","v":""},{"$f":"IF(Z26=\"\",\"\",IF(AA25=0,\"\",AA25+Kasse_3!K29-Kasse_3!M29))","v":""}]
[null,null,null,null,null,null,null,null,null,null,null,null,null,null,null,null,null,null,null,{"$f":"IF(Kasse_1!C30=\"\",\"\",Kasse_1!C30)","v":""},{"$f":"IF(T27=\"\",\"\",IF(U26=0,\"\",U26+Kasse_1!K30-Kasse_1!M30))","v":""},null,{"$f":"IF(Kasse_2!C30=\"\",\"\",Kasse_2!C30)","v":""},{"$f":"IF(W27=\"\",\"\",IF(X26=0,\"\",X26+Kasse_2!K30-Kasse_2!M30))","v":""},null,{"$f":"IF(Kasse_3!C30=\"\",\"\",Kasse_3!C30)","v":""},{"$f":"IF(Z27=\"\",\"\",IF(AA26=0,\"\",AA26+Kasse_3!K30-Kasse_3!M30))","v":""}]
[null,null,null,null,null,null,null,null,null,null,null,null,null,null,null,null,null,null,null,{"$f":"IF(Kasse_1!C31=\"\",\"\",Kasse_1!C31)","v":""},{"$f":"IF(T28=\"\",\"\",IF(U27=0,\"\",U27+Kasse_1!K31-Kasse_1!M31))","v":""},null,{"$f":"IF(Kasse_2!C31=\"\",\"\",Kasse_2!C31)","v":""},null,null,{"$f":"IF(Kasse_3!C31=\"\",\"\",Kasse_3!C31)","v":""},{"$f":"IF(Z28=\"\",\"\",IF(AA27=0,\"\",AA27+Kasse_3!K31-Kasse_3!M31))","v":""}]
[null,null,null,null,null,null,null,null,null,null,null,null,null,null,null,null,null,null,null,{"$f":"IF(Kasse_1!C32=\"\",\"\",Kasse_1!C32)","v":""},{"$f":"IF(T29=\"\",\"\",IF(U28=0,\"\",U28+Kasse_1!K32-Kasse_1!M32))","v":""},null,{"$f":"IF(Kasse_2!C32=\"\",\"\",Kasse_2!C32)","v":""},{"$f":"IF(W29=\"\",\"\",IF(X28=0,\"\",X28+Kasse_2!K32-Kasse_2!M32))","v":""},null,{"$f":"IF(Kasse_3!C32=\"\",\"\",Kasse_3!C32)","v":""},{"$f":"IF(Z29=\"\",\"\",IF(AA28=0,\"\",AA28+Kasse_3!K32-Kasse_3!M32))","v":""}]
[null,null,null,null,null,null,null,null,null,null,null,null,null,null,null,null,null,null,null,{"$f":"IF(Kasse_1!C33=\"\",\"\",Kasse_1!C33)","v":""},{"$f":"IF(T30=\"\",\"\",IF(U29=0,\"\",U29+Kasse_1!K33-Kasse_1!M33))","v":""},null,{"$f":"IF(Kasse_2!C33=\"\",\"\",Kasse_2!C33)","v":""},{"$f":"IF(W30=\"\",\"\",IF(X29=0,\"\",X29+Kasse_2!K33-Kasse_2!M33))","v":""},null,{"$f":"IF(Kasse_3!C33=\"\",\"\",Kasse_3!C33)","v":""},{"$f":"IF(Z30=\"\",\"\",IF(AA29=0,\"\",AA29+Kasse_3!K33-Kasse_3!M33))","v":""}]
[null,null,null,null,null,null,null,null,null,null,null,null,null,null,null,null,null,null,null,{"$f":"IF(Kasse_1!C34=\"\",\"\",Kasse_1!C34)","v":""},{"$f":"IF(T31=\"\",\"\",IF(U30=0,\"\",U30+Kasse_1!K34-Kasse_1!M34))","v":""},null,{"$f":"IF(Kasse_2!C34=\"\",\"\",Kasse_2!C34)","v":""},{"$f":"IF(W31=\"\",\"\",IF(X30=0,\"\",X30+Kasse_2!K34-Kasse_2!M34))","v":""},null,{"$f":"IF(Kasse_3!C34=\"\",\"\",Kasse_3!C34)","v":""},{"$f":"IF(Z31=\"\",\"\",IF(AA30=0,\"\",AA30+Kasse_3!K34-Kasse_3!M34))","v":""}]
[null,null,null,null,null,null,null,null,null,null,null,null,null,null,null,null,null,null,null,{"$f":"IF(Kasse_1!C35=\"\",\"\",Kasse_1!C35)","v":""},{"$f":"IF(T32=\"\",\"\",IF(U31=0,\"\",U31+Kasse_1!K35-Kasse_1!M35))","v":""},null,{"$f":"IF(Kasse_2!C35=\"\",\"\",Kasse_2!C35)","v":""},{"$f":"IF(W32=\"\",\"\",IF(X31=0,\"\",X31+Kasse_2!K35-Kasse_2!M35))","v":""},null,{"$f":"IF(Kasse_3!C35=\"\",\"\",Kasse_3!C35)","v":""},{"$f":"IF(Z32=\"\",\"\",IF(AA31=0,\"\",AA31+Kasse_3!K35-Kasse_3!M35))","v":""}]
[null,null,null,null,null,null,null,null,null,null,null,null,null,null,null,null,null,null,null,{"$f":"IF(Kasse_1!C36=\"\",\"\",Kasse_1!C36)","v":""},{"$f":"IF(T33=\"\",\"\",IF(U32=0,\"\",U32+Kasse_1!K36-Kasse_1!M36))","v":""},null,{"$f":"IF(Kasse_2!C36=\"\",\"\",Kasse_2!C36)","v":""},{"$f":"IF(W33=\"\",\"\",IF(X32=0,\"\",X32+Kasse_2!K36-Kasse_2!M36))","v":""},null,{"$f":"IF(Kasse_3!C36=\"\",\"\",Kasse_3!C36)","v":""},{"$f":"IF(Z33=\"\",\"\",IF(AA32=0,\"\",AA32+Kasse_3!K36-Kasse_3!M36))","v":""}]
[null,null,null,null,null,null,null,null,null,null,null,null,null,null,null,null,null,null,null,{"$f":"IF(Kasse_1!C37=\"\",\"\",Kasse_1!C37)","v":""},{"$f":"IF(T34=\"\",\"\",IF(U33=0,\"\",U33+Kasse_1!K37-Kasse_1!M37))","v":""},null,{"$f":"IF(Kasse_2!C37=\"\",\"\",Kasse_2!C37)","v":""},{"$f":"IF(W34=\"\",\"\",IF(X33=0,\"\",X33+Kasse_2!K37-Kasse_2!M37))","v":""},null,{"$f":"IF(Kasse_3!C37=\"\",\"\",Kasse_3!C37)","v":""},{"$f":"IF(Z34=\"\",\"\",IF(AA33=0,\"\",AA33+Kasse_3!K37-Kasse_3!M37))","v":""}]
[null,null,null,null,null,null,null,null,null,null,null,null,null,null,null,null,null,null,null,{"$f":"IF(Kasse_1!C38=\"\",\"\",Kasse_1!C38)","v":""},{"$f":"IF(T35=\"\",\"\",IF(U34=0,\"\",U34+Kasse_1!K38-Kasse_1!M38))","v":""},null,{"$f":"IF(Kasse_2!C38=\"\",\"\",Kasse_2!C38)","v":""},{"$f":"IF(W35=\"\",\"\",IF(X34=0,\"\",X34+Kasse_2!K38-Kasse_2!M38))","v":""},null,{"$f":"IF(Kasse_3!C38=\"\",\"\",Kasse_3!C38)","v":""},{"$f":"IF(Z35=\"\",\"\",IF(AA34=0,\"\",AA34+Kasse_3!K38-Kasse_3!M38))","v":""}]
[null,null,null,null,null,null,null,null,null,null,null,null,null,null,null,null,null,null,null,{"$f":"IF(Kasse_1!C39=\"\",\"\",Kasse_1!C39)","v":""},{"$f":"IF(T36=\"\",\"\",IF(U35=0,\"\",U35+Kasse_1!K39-Kasse_1!M39))","v":""},null,{"$f":"IF(Kasse_2!C39=\"\",\"\",Kasse_2!C39)","v":""},{"$f":"IF(W36=\"\",\"\",IF(X35=0,\"\",X35+Kasse_2!K39-Kasse_2!M39))","v":""},null,{"$f":"IF(Kasse_3!C39=\"\",\"\",Kasse_3!C39)","v":""},{"$f":"IF(Z36=\"\",\"\",IF(AA35=0,\"\",AA35+Kasse_3!K39-Kasse_3!M39))","v":""}]
[null,null,null,null,null,null,null,null,null,null,null,null,null,null,null,null,null,null,null,{"$f":"IF(Kasse_1!C40=\"\",\"\",Kasse_1!C40)","v":""},{"$f":"IF(T37=\"\",\"\",IF(U36=0,\"\",U36+Kasse_1!K40-Kasse_1!M40))","v":""},null,{"$f":"IF(Kasse_2!C40=\"\",\"\",Kasse_2!C40)","v":""},{"$f":"IF(W37=\"\",\"\",IF(X36=0,\"\",X36+Kasse_2!K40-Kasse_2!M40))","v":""},null,{"$f":"IF(Kasse_3!C40=\"\",\"\",Kasse_3!C40)","v":""},{"$f":"IF(Z37=\"\",\"\",IF(AA36=0,\"\",AA36+Kasse_3!K40-Kasse_3!M40))","v":""}]
[null,null,null,null,null,null,null,null,null,null,null,null,null,null,null,null,null,null,null,{"$f":"IF(Kasse_1!C41=\"\",\"\",Kasse_1!C41)","v":""},{"$f":"IF(T38=\"\",\"\",IF(U37=0,\"\",U37+Kasse_1!K41-Kasse_1!M41))","v":""},null,{"$f":"IF(Kasse_2!C41=\"\",\"\",Kasse_2!C41)","v":""},{"$f":"IF(W38=\"\",\"\",IF(X37=0,\"\",X37+Kasse_2!K41-Kasse_2!M41))","v":""},null,{"$f":"IF(Kasse_3!C41=\"\",\"\",Kasse_3!C41)","v":""},{"$f":"IF(Z38=\"\",\"\",IF(AA37=0,\"\",AA37+Kasse_3!K41-Kasse_3!M41))","v":""}]
[null,null,null,null,null,null,null,null,null,null,null,null,null,null,null,null,null,null,null,{"$f":"IF(Kasse_1!C42=\"\",\"\",Kasse_1!C42)","v":""},{"$f":"IF(T39=\"\",\"\",IF(U38=0,\"\",U38+Kasse_1!K42-Kasse_1!M42))","v":""},null,{"$f":"IF(Kasse_2!C42=\"\",\"\",Kasse_2!C42)","v":""},{"$f":"IF(W39=\"\",\"\",IF(X38=0,\"\",X38+Kasse_2!K42-Kasse_2!M42))","v":""},null,{"$f":"IF(Kasse_3!C42=\"\",\"\",Kasse_3!C42)","v":""},{"$f":"IF(Z39=\"\",\"\",IF(AA38=0,\"\",AA38+Kasse_3!K42-Kasse_3!M42))","v":""}]
[null,null,null,null,null,null,null,null,null,null,null,null,null,null,null,null,null,null,null,{"$f":"IF(Kasse_1!C43=\"\",\"\",Kasse_1!C43)","v":""},{"$f":"IF(T40=\"\",\"\",IF(U39=0,\"\",U39+Kasse_1!K43-Kasse_1!M43))","v":""},null,{"$f":"IF(Kasse_2!C43=\"\",\"\",Kasse_2!C43)","v":""},{"$f":"IF(W40=\"\",\"\",IF(X39=0,\"\",X39+Kasse_2!K43-Kasse_2!M43))","v":""},null,{"$f":"IF(Kasse_3!C43=\"\",\"\",Kasse_3!C43)","v":""},{"$f":"IF(Z40=\"\",\"\",IF(AA39=0,\"\",AA39+Kasse_3!K43-Kasse_3!M43))","v":""}]
[null,null,null,null,null,null,null,null,null,null,null,null,null,null,null,null,null,null,null,{"$f":"IF(Kasse_1!C44=\"\",\"\",Kasse_1!C44)","v":""},{"$f":"IF(T41=\"\",\"\",IF(U40=0,\"\",U40+Kasse_1!K44-Kasse_1!M44))","v":""},null,{"$f":"IF(Kasse_2!C44=\"\",\"\",Kasse_2!C44)","v":""},{"$f":"IF(W41=\"\",\"\",IF(X40=0,\"\",X40+Kasse_2!K44-Kasse_2!M44))","v":""},null,{"$f":"IF(Kasse_3!C44=\"\",\"\",Kasse_3!C44)","v":""},{"$f":"IF(Z41=\"\",\"\",IF(AA40=0,\"\",AA40+Kasse_3!K44-Kasse_3!M44))","v":""}]
[null,null,null,null,null,null,null,null,null,null,null,null,null,null,null,null,null,null,null,{"$f":"IF(Kasse_1!C45=\"\",\"\",Kasse_1!C45)","v":""},{"$f":"IF(T42=\"\",\"\",IF(U41=0,\"\",U41+Kasse_1!K45-Kasse_1!M45))","v":""},null,{"$f":"IF(Kasse_2!C45=\"\",\"\",Kasse_2!C45)","v":""},{"$f":"IF(W42=\"\",\"\",IF(X41=0,\"\",X41+Kasse_2!K45-Kasse_2!M45))","v":""},null,{"$f":"IF(Kasse_3!C45=\"\",\"\",Kasse_3!C45)","v":""},{"$f":"IF(Z42=\"\",\"\",IF(AA41=0,\"\",AA41+Kasse_3!K45-Kasse_3!M45))","v":""}]
[null,null,null,null,null,null,null,null,null,null,null,null,null,null,null,null,null,null,null,{"$f":"IF(Kasse_1!C46=\"\",\"\",Kasse_1!C46)","v":""},{"$f":"IF(T43=\"\",\"\",IF(U42=0,\"\",U42+Kasse_1!K46-Kasse_1!M46))","v":""},null,{"$f":"IF(Kasse_2!C46=\"\",\"\",Kasse_2!C46)","v":""},{"$f":"IF(W43=\"\",\"\",IF(X42=0,\"\",X42+Kasse_2!K46-Kasse_2!M46))","v":""},null,{"$f":"IF(Kasse_3!C46=\"\",\"\",Kasse_3!C46)","v":""},{"$f":"IF(Z43=\"\",\"\",IF(AA42=0,\"\",AA42+Kasse_3!K46-Kasse_3!M46))","v":""}]
[null,null,null,null,null,null,null,null,null,null,null,null,null,null,null,null,null,null,null,{"$f":"IF(Kasse_1!C47=\"\",\"\",Kasse_1!C47)","v":""},{"$f":"IF(T44=\"\",\"\",IF(U43=0,\"\",U43+Kasse_1!K47-Kasse_1!M47))","v":""},null,{"$f":"IF(Kasse_2!C47=\"\",\"\",Kasse_2!C47)","v":""},{"$f":"IF(W44=\"\",\"\",IF(X43=0,\"\",X43+Kasse_2!K47-Kasse_2!M47))","v":""},null,{"$f":"IF(Kasse_3!C47=\"\",\"\",Kasse_3!C47)","v":""},{"$f":"IF(Z44=\"\",\"\",IF(AA43=0,\"\",AA43+Kasse_3!K47-Kasse_3!M47))","v":""}]
[null,null,null,null,null,null,null,null,null,null,null,null,null,null,null,null,null,null,null,{"$f":"IF(Kasse_1!C48=\"\",\"\",Kasse_1!C48)","v":""},{"$f":"IF(T45=\"\",\"\",IF(U44=0,\"\",U44+Kasse_1!K48-Kasse_1!M48))","v":""},null,{"$f":"IF(Kasse_2!C48=\"\",\"\",Kasse_2!C48)","v":""},{"$f":"IF(W45=\"\",\"\",IF(X44=0,\"\",X44+Kasse_2!K48-Kasse_2!M48))","v":""},null,{"$f":"IF(Kasse_3!C48=\"\",\"\",Kasse_3!C48)","v":""},{"$f":"IF(Z45=\"\",\"\",IF(AA44=0,\"\",AA44+Kasse_3!K48-Kasse_3!M48))","v":""}]
[null,null,null,null,null,null,null,null,null,null,null,null,null,null,null,null,null,null,null,{"$f":"IF(Kasse_1!C49=\"\",\"\",Kasse_1!C49)","v":""},{"$f":"IF(T46=\"\",\"\",IF(U45=0,\"\",U45+Kasse_1!K49-Kasse_1!M49))","v":""},null,{"$f":"IF(Kasse_2!C49=\"\",\"\",Kasse_2!C49)","v":""},{"$f":"IF(W46=\"\",\"\",IF(X45=0,\"\",X45+Kasse_2!K49-Kasse_2!M49))","v":""},null,{"$f":"IF(Kasse_3!C49=\"\",\"\",Kasse_3!C49)","v":""},{"$f":"IF(Z46=\"\",\"\",IF(AA45=0,\"\",AA45+Kasse_3!K49-Kasse_3!M49))","v":""}]
[null,null,null,null,null,null,null,null,null,null,null,null,null,null,null,null,null,null,null,{"$f":"IF(Kasse_1!C50=\"\",\"\",Kasse_1!C50)","v":""},{"$f":"IF(T47=\"\",\"\",IF(U46=0,\"\",U46+Kasse_1!K50-Kasse_1!M50))","v":""},null,{"$f":"IF(Kasse_2!C50=\"\",\"\",Kasse_2!C50)","v":""},{"$f":"IF(W47=\"\",\"\",IF(X46=0,\"\",X46+Kasse_2!K50-Kasse_2!M50))","v":""},null,{"$f":"IF(Kasse_3!C50=\"\",\"\",Kasse_3!C50)","v":""},{"$f":"IF(Z47=\"\",\"\",IF(AA46=0,\"\",AA46+Kasse_3!K50-Kasse_3!M50))","v":""}]
[null,null,null,null,null,null,null,null,null,null,null,null,null,null,null,null,null,null,null,{"$f":"IF(Kasse_1!C51=\"\",\"\",Kasse_1!C51)","v":""},{"$f":"IF(T48=\"\",\"\",IF(U47=0,\"\",U47+Kasse_1!K51-Kasse_1!M51))","v":""},null,{"$f":"IF(Kasse_2!C51=\"\",\"\",Kasse_2!C51)","v":""},{"$f":"IF(W48=\"\",\"\",IF(X47=0,\"\",X47+Kasse_2!K51-Kasse_2!M51))","v":""},null,{"$f":"IF(Kasse_3!C51=\"\",\"\",Kasse_3!C51)","v":""},{"$f":"IF(Z48=\"\",\"\",IF(AA47=0,\"\",AA47+Kasse_3!K51-Kasse_3!M51))","v":""}]
[]
[]
[]
[]
[]
[]
[null,"Copyright by Heinr.-Bernh. Münzebrock"]